BEGIN:VCALENDAR
VERSION:2.0
PRODID:SchoolNow
CALSCALE:GREGORIAN
BEGIN:VEVENT
UID:0bb48e7e-d6f1-11f0-8641-0ed359341627
DTSTAMP:20251217T020516Z
SUMMARY:HS Jazz Ensemble
URL;VALUE=URI:https://www.sau14.org/emhs/calendar/8822570/hs-jazz-ensemble
DTSTART:20251020T183000Z
DTEND:20251020T193000Z
END:VEVENT
END:VCALENDAR
