BEGIN:VCALENDAR
VERSION:2.0
PRODID:SchoolNow
CALSCALE:GREGORIAN
BEGIN:VEVENT
UID:0bb4934c-d6f1-11f0-ab25-0ed359341627
DTSTAMP:20251217T020516Z
SUMMARY:HS Jazz Ensemble
URL;VALUE=URI:https://www.sau14.org/emhs/calendar/8822572/hs-jazz-ensemble
DTSTART:20251103T193000Z
DTEND:20251103T203000Z
END:VEVENT
END:VCALENDAR
