BEGIN:VCALENDAR
VERSION:2.0
PRODID:SchoolNow
CALSCALE:GREGORIAN
BEGIN:VEVENT
UID:0bb49586-d6f1-11f0-9395-0ed359341627
DTSTAMP:20251217T020516Z
SUMMARY:HS Jazz Ensemble
URL;VALUE=URI:https://www.sau14.org/emhs/calendar/8822574/hs-jazz-ensemble
DTSTART:20251117T193000Z
DTEND:20251117T203000Z
END:VEVENT
END:VCALENDAR
