BEGIN:VCALENDAR
VERSION:2.0
PRODID:SchoolNow
CALSCALE:GREGORIAN
BEGIN:VEVENT
UID:0bb498ec-d6f1-11f0-b179-0ed359341627
DTSTAMP:20251217T020516Z
SUMMARY:HS Jazz Ensemble
URL;VALUE=URI:https://www.sau14.org/emhs/calendar/8822576/hs-jazz-ensemble
DTSTART:20251201T193000Z
DTEND:20251201T203000Z
END:VEVENT
END:VCALENDAR
