BEGIN:VCALENDAR
VERSION:2.0
PRODID:SchoolNow
CALSCALE:GREGORIAN
BEGIN:VEVENT
UID:0bb4a1de-d6f1-11f0-a8a9-0ed359341627
DTSTAMP:20251217T020516Z
SUMMARY:HS Jazz Ensemble
URL;VALUE=URI:https://www.sau14.org/emhs/calendar/8822582/hs-jazz-ensemble
DTSTART:20260112T193000Z
DTEND:20260112T203000Z
END:VEVENT
END:VCALENDAR
