BEGIN:VCALENDAR
VERSION:2.0
PRODID:SchoolNow
CALSCALE:GREGORIAN
BEGIN:VEVENT
UID:0bb4a4d6-d6f1-11f0-aeed-0ed359341627
DTSTAMP:20251217T020516Z
SUMMARY:HS Jazz Ensemble
URL;VALUE=URI:https://www.sau14.org/emhs/calendar/8822585/hs-jazz-ensemble
DTSTART:20260202T193000Z
DTEND:20260202T203000Z
END:VEVENT
END:VCALENDAR
