BEGIN:VCALENDAR
VERSION:2.0
PRODID:SchoolNow
CALSCALE:GREGORIAN
BEGIN:VEVENT
UID:0bb4a5c6-d6f1-11f0-8c06-0ed359341627
DTSTAMP:20251217T020516Z
SUMMARY:HS Jazz Ensemble
URL;VALUE=URI:https://www.sau14.org/emhs/calendar/8822586/hs-jazz-ensemble
DTSTART:20260209T193000Z
DTEND:20260209T203000Z
END:VEVENT
END:VCALENDAR
