BEGIN:VCALENDAR
VERSION:2.0
PRODID:SchoolNow
CALSCALE:GREGORIAN
BEGIN:VEVENT
UID:0bb4aa80-d6f1-11f0-8dae-0ed359341627
DTSTAMP:20251217T020516Z
SUMMARY:HS Jazz Ensemble
URL;VALUE=URI:https://www.sau14.org/emhs/calendar/8822591/hs-jazz-ensemble
DTSTART:20260316T183000Z
DTEND:20260316T193000Z
END:VEVENT
END:VCALENDAR
