BEGIN:VCALENDAR
VERSION:2.0
PRODID:SchoolNow
CALSCALE:GREGORIAN
BEGIN:VEVENT
UID:0bb4ac74-d6f1-11f0-8fff-0ed359341627
DTSTAMP:20251217T020516Z
SUMMARY:HS Jazz Ensemble
URL;VALUE=URI:https://www.sau14.org/emhs/calendar/8822593/hs-jazz-ensemble
DTSTART:20260330T183000Z
DTEND:20260330T193000Z
END:VEVENT
END:VCALENDAR
