BEGIN:VCALENDAR
VERSION:2.0
PRODID:SchoolNow
CALSCALE:GREGORIAN
BEGIN:VEVENT
UID:0bb4ae5e-d6f1-11f0-89b2-0ed359341627
DTSTAMP:20251217T020516Z
SUMMARY:HS Jazz Ensemble
URL;VALUE=URI:https://www.sau14.org/emhs/calendar/8822595/hs-jazz-ensemble
DTSTART:20260413T183000Z
DTEND:20260413T193000Z
END:VEVENT
END:VCALENDAR
