BEGIN:VCALENDAR
VERSION:2.0
PRODID:SchoolNow
CALSCALE:GREGORIAN
BEGIN:VEVENT
UID:0bb4b12e-d6f1-11f0-acc0-0ed359341627
DTSTAMP:20251217T020516Z
SUMMARY:HS Jazz Ensemble
URL;VALUE=URI:https://www.sau14.org/emhs/calendar/8822598/hs-jazz-ensemble
DTSTART:20260504T183000Z
DTEND:20260504T193000Z
END:VEVENT
END:VCALENDAR
