BEGIN:VCALENDAR
VERSION:2.0
PRODID:SchoolNow
CALSCALE:GREGORIAN
BEGIN:VEVENT
UID:0bb4b21e-d6f1-11f0-942d-0ed359341627
DTSTAMP:20251217T020516Z
SUMMARY:HS Jazz Ensemble
URL;VALUE=URI:https://www.sau14.org/emhs/calendar/8822599/hs-jazz-ensemble
DTSTART:20260511T183000Z
DTEND:20260511T193000Z
END:VEVENT
END:VCALENDAR
