BEGIN:VCALENDAR
VERSION:2.0
PRODID:SchoolNow
CALSCALE:GREGORIAN
BEGIN:VEVENT
UID:0c6e1be8-d78a-11f0-bb86-0a58a9feac02
DTSTAMP:20251217T020515Z
SUMMARY:EMHS Animation Club
LOCATION:Media Center
URL;VALUE=URI:https://www.sau14.org/emhs/calendar/8822876/emhs-animation-cl
 ub
DTSTART:20260204T193000Z
DTEND:20260204T203000Z
END:VEVENT
END:VCALENDAR
