BEGIN:VCALENDAR
VERSION:2.0
PRODID:SchoolNow
CALSCALE:GREGORIAN
BEGIN:VEVENT
UID:db6d0c7e-dab9-11f0-9ef9-0a58a9feac02
DTSTAMP:20251217T020515Z
SUMMARY:Class Of 2028 SEE's Valentine Candy Online Fundraiser
URL;VALUE=URI:https://www.sau14.org/emhs/calendar/8825075/class-of-2028-see
 s-valentine-candy-online-fundraiser
DTSTART;VALUE=DATE:20260106
DTEND;VALUE=DATE:20260107
END:VEVENT
END:VCALENDAR
